BEGIN:VCALENDAR
VERSION:2.0
PRODID:-//Fahrschule Armbruster - ECPv6.15.17//NONSGML v1.0//EN
CALSCALE:GREGORIAN
METHOD:PUBLISH
X-ORIGINAL-URL:https://fahrschule-armbruster.de
X-WR-CALDESC:Veranstaltungen für Fahrschule Armbruster
REFRESH-INTERVAL;VALUE=DURATION:PT1H
X-Robots-Tag:noindex
X-PUBLISHED-TTL:PT1H
BEGIN:VTIMEZONE
TZID:Europe/Berlin
BEGIN:DAYLIGHT
TZOFFSETFROM:+0100
TZOFFSETTO:+0200
TZNAME:CEST
DTSTART:20230326T010000
END:DAYLIGHT
BEGIN:STANDARD
TZOFFSETFROM:+0200
TZOFFSETTO:+0100
TZNAME:CET
DTSTART:20231029T010000
END:STANDARD
BEGIN:DAYLIGHT
TZOFFSETFROM:+0100
TZOFFSETTO:+0200
TZNAME:CEST
DTSTART:20240331T010000
END:DAYLIGHT
BEGIN:STANDARD
TZOFFSETFROM:+0200
TZOFFSETTO:+0100
TZNAME:CET
DTSTART:20241027T010000
END:STANDARD
BEGIN:DAYLIGHT
TZOFFSETFROM:+0100
TZOFFSETTO:+0200
TZNAME:CEST
DTSTART:20250330T010000
END:DAYLIGHT
BEGIN:STANDARD
TZOFFSETFROM:+0200
TZOFFSETTO:+0100
TZNAME:CET
DTSTART:20251026T010000
END:STANDARD
BEGIN:DAYLIGHT
TZOFFSETFROM:+0100
TZOFFSETTO:+0200
TZNAME:CEST
DTSTART:20260329T010000
END:DAYLIGHT
BEGIN:STANDARD
TZOFFSETFROM:+0200
TZOFFSETTO:+0100
TZNAME:CET
DTSTART:20261025T010000
END:STANDARD
END:VTIMEZONE
BEGIN:VEVENT
DTSTART;TZID=Europe/Berlin:20250319T180000
DTEND;TZID=Europe/Berlin:20250319T193000
DTSTAMP:20260422T131330
CREATED:20231017T063107Z
LAST-MODIFIED:20251130T141528Z
UID:10000543-1742407200-1742412600@fahrschule-armbruster.de
SUMMARY:Grundstoff Lektion 6 - TÜ Herrenbergerstr. 39
DESCRIPTION:Verkehrsregelungen/Bahnübergänge\n\n\n\n\n\nVerkehrsregelung durch LichtzeichenGrünpfeilschildDauerlichtzeichenVerkehrsregelung durch PolizeibeamteZusammenhänge Vorfahrt / VerkehrsregelungenBesondere VerkehrslagenBahnübergänge\n\n\n\n\n\n\n\n \n\n\n\n \n\nDu bist noch kein Kunde und benötigst einen Start-Termin? \n\n\n\n\n    \n        Zur Anmeldung
URL:https://fahrschule-armbruster.de/veranstaltungen/grundstoff-lektion-6-tue-herrenbergerstr-39/2025-03-19
LOCATION:Tübingen Herrenberger Str. 39\, Herrenberger Straße 39\, Tübingen\, 72070
CATEGORIES:Grundstoff - TÜ Herrenbergerstr. 39
END:VEVENT
BEGIN:VEVENT
DTSTART;TZID=Europe/Berlin:20250317T180000
DTEND;TZID=Europe/Berlin:20250317T193000
DTSTAMP:20260422T131330
CREATED:20231017T062439Z
LAST-MODIFIED:20251130T140904Z
UID:10000535-1742234400-1742239800@fahrschule-armbruster.de
SUMMARY:Grundstoff Lektion 5 - TÜ Herrenbergerstr. 39
DESCRIPTION:Vorfahrt\n\n\n\n\n\nDefinitionLinksabbieger / Vorrang des GegenverkehrsRechts vor LinksVorfahrtregelnde VerkehrszeichenAbknickende VorfahrtsstraßeKreisverkehr\n\n\n\n\n\n\n\n \n\n\n\n \n\nDu bist noch kein Kunde und benötigst einen Start-Termin? \n\n\n\n\n    \n        Zur Anmeldung
URL:https://fahrschule-armbruster.de/veranstaltungen/grundstoff-lektion-5-tue-herrenbergerstr-39/2025-03-17
LOCATION:Tübingen Herrenberger Str. 39\, Herrenberger Straße 39\, Tübingen\, 72070
CATEGORIES:Grundstoff - TÜ Herrenbergerstr. 39
END:VEVENT
BEGIN:VEVENT
DTSTART;TZID=Europe/Berlin:20250312T180000
DTEND;TZID=Europe/Berlin:20250312T193000
DTSTAMP:20260422T131330
CREATED:20231017T061549Z
LAST-MODIFIED:20251130T135725Z
UID:10000527-1741802400-1741807800@fahrschule-armbruster.de
SUMMARY:Grundstoff Lektion 4 - TÜ Herrenbergerstr. 39
DESCRIPTION:Straßenverkehrssystemund seine Nutzung\n\n\n\n\n\nVerkehrswege und ihre BedeutungFahrbahnmarkierungenStraßenbenutzung\n\n\n\n\n\n\n\n \n\n\n\n \n\nDu bist noch kein Kunde und benötigst einen Start-Termin? \n\n\n\n\n    \n        Zur Anmeldung
URL:https://fahrschule-armbruster.de/veranstaltungen/grundstoff-lektion-4-tue-herrenbergerstr-39/2025-03-12
LOCATION:Tübingen Herrenberger Str. 39\, Herrenberger Straße 39\, Tübingen\, 72070
CATEGORIES:Grundstoff - TÜ Herrenbergerstr. 39
END:VEVENT
BEGIN:VEVENT
DTSTART;TZID=Europe/Berlin:20250310T180000
DTEND;TZID=Europe/Berlin:20250310T193000
DTSTAMP:20260422T131330
CREATED:20231013T134607Z
LAST-MODIFIED:20251130T133029Z
UID:10000519-1741629600-1741635000@fahrschule-armbruster.de
SUMMARY:Grundstoff Lektion 3 - TÜ Herrenbergerstr. 39
DESCRIPTION:Verkehrszeichen undVerkehrseinrichtungen\n\n\n\n\n\n\n\nGrundregel § 1 (StVO)VerkehrszeichenGefahrzeichenVorschriftzeichenRichtzeichenVerkehrseinrichtungenSinnbilder\n\n\n\n\n\n\n\n\n\n \n\n\n\n \n\nDu bist noch kein Kunde und benötigst einen Start-Termin? \n\n\n\n\n    \n        Zur Anmeldung
URL:https://fahrschule-armbruster.de/veranstaltungen/grundstoff-lektion-3-tue-herrenbergerstr-39/2025-03-10
LOCATION:Tübingen Herrenberger Str. 39\, Herrenberger Straße 39\, Tübingen\, 72070
CATEGORIES:Grundstoff - TÜ Herrenbergerstr. 39
END:VEVENT
BEGIN:VEVENT
DTSTART;TZID=Europe/Berlin:20250305T180000
DTEND;TZID=Europe/Berlin:20250305T193000
DTSTAMP:20260422T131330
CREATED:20231013T121742Z
LAST-MODIFIED:20251130T132113Z
UID:10000511-1741197600-1741203000@fahrschule-armbruster.de
SUMMARY:Grundstoff Lektion 2 - TÜ Herrenbergerstr. 39
DESCRIPTION:Rechtliche Rahmenbedingungen\n\n\n\n\n\n\nFühren von Kraftfahrzeugen\, FührerscheinZulassung von Kraftfahrzeugen\, FahrzeugpapiereFahrzeuguntersuchungenVersicherungen\, Verlust des Versicherungsschutzes\n\n\n\n\n\n\n\n\n \n\n\n\n \n\nDu bist noch kein Kunde und benötigst einen Start-Termin? \n\n\n\n\n    \n        Zur Anmeldung
URL:https://fahrschule-armbruster.de/veranstaltungen/grundstoff-lektion-2-tue-herrenbergerstr-39/2025-03-05
LOCATION:Tübingen Herrenberger Str. 39\, Herrenberger Straße 39\, Tübingen\, 72070
CATEGORIES:Grundstoff - TÜ Herrenbergerstr. 39
END:VEVENT
BEGIN:VEVENT
DTSTART;TZID=Europe/Berlin:20250303T180000
DTEND;TZID=Europe/Berlin:20250303T193000
DTSTAMP:20260422T131330
CREATED:20231013T115009Z
LAST-MODIFIED:20251130T131332Z
UID:10000503-1741024800-1741030200@fahrschule-armbruster.de
SUMMARY:Grundstoff Lektion 1 - TÜ Herrenbergerstr. 39
DESCRIPTION:Persönliche Voraussetzungen /Risikofaktor Mensch\n\n\n\nKörperliche FähigkeitenEinschränkungen der körperlichen FähigkeitenAlkoholIllegale Drogen und MedikamenteEmotionenSelbstbild; Fahrideale und Fahrerrollen\n\n\n\n\n\n\n\n\n\n\n\n\n\n \n\n\n\n \n\nDu bist noch kein Kunde und benötigst einen Start-Termin? \n\n\n\n\n    \n        Zur Anmeldung
URL:https://fahrschule-armbruster.de/veranstaltungen/grundstoff-lektion-1-tue-herrenbergerstr-39/2025-03-03
LOCATION:Tübingen Herrenberger Str. 39\, Herrenberger Straße 39\, Tübingen\, 72070
CATEGORIES:Grundstoff - TÜ Herrenbergerstr. 39
END:VEVENT
BEGIN:VEVENT
DTSTART;TZID=Europe/Berlin:20250226T180000
DTEND;TZID=Europe/Berlin:20250226T193000
DTSTAMP:20260422T131330
CREATED:20231017T073741Z
LAST-MODIFIED:20251130T144931Z
UID:10000598-1740592800-1740598200@fahrschule-armbruster.de
SUMMARY:Klassenspezifisch nur Klasse B Lektion 14 - TÜ Herrenbergerstr. 39
DESCRIPTION:Fahren mit Solokraftfahrzeugenu. Zügen\, Personen – u. Güterbeförderung\n\n\n\n\n\n\nZusammenstellen von ZügenVerbinden und TrennenFahren mit ZügenPersonenbeförderungGüterbeförderungFahrzeugabmessungenSozialvorschriften\n\n\n\n\n\n\n\n\n \n\n\n\n \n\nDu bist noch kein Kunde und benötigst einen Start-Termin? \n\n\n\n\n    \n        Zur Anmeldung
URL:https://fahrschule-armbruster.de/veranstaltungen/klassenspezifisch-nur-klasse-b-lektion-14-tue-herrenbergerstr-39/2025-02-26
LOCATION:Tübingen Herrenberger Str. 39\, Herrenberger Straße 39\, Tübingen\, 72070
CATEGORIES:Grundstoff - TÜ Herrenbergerstr. 39,Klassenspezifisch B - TÜ Herrenbergerstr. 39
END:VEVENT
BEGIN:VEVENT
DTSTART;TZID=Europe/Berlin:20250224T180000
DTEND;TZID=Europe/Berlin:20250224T193000
DTSTAMP:20260422T131330
CREATED:20231017T073238Z
LAST-MODIFIED:20251130T144637Z
UID:10000591-1740420000-1740425400@fahrschule-armbruster.de
SUMMARY:Klassenspezifisch nur Klasse B Lektion 13 - TÜ Herrenbergerstr. 39
DESCRIPTION:Technische Bedingungenumweltbewusster Umgangmit Kraftfahrzeugen\n\n\n\n\n\n\nBetriebssicherheitVerkehrssicherheitWeitere FahrzeugtechnikElektronische HelferFahrphysikBenutzung der BremsenUmweltschonender Umgang mit dem Kraftfahrzeug / Verkehrsverbote\n\n\n\n\n\n\n\n\n \n\n\n\n \n\nDu bist noch kein Kunde und benötigst einen Start-Termin? \n\n\n\n\n    \n        Zur Anmeldung
URL:https://fahrschule-armbruster.de/veranstaltungen/klassenspezifisch-nur-klasse-b-lektion-13-tue-herrenbergerstr-39/2025-02-24
LOCATION:Tübingen Herrenberger Str. 39\, Herrenberger Straße 39\, Tübingen\, 72070
CATEGORIES:Grundstoff - TÜ Herrenbergerstr. 39,Klassenspezifisch B - TÜ Herrenbergerstr. 39
END:VEVENT
BEGIN:VEVENT
DTSTART;TZID=Europe/Berlin:20250221T193000
DTEND;TZID=Europe/Berlin:20250221T210000
DTSTAMP:20260422T131330
CREATED:20231019T064140Z
LAST-MODIFIED:20241114T192533Z
UID:10000654-1740166200-1740171600@fahrschule-armbruster.de
SUMMARY:Theorie Klasse A / A2 / A1 / AM / B196 Lektion 4 - TÜ Herrenbergerstr. 39
DESCRIPTION:Besonderes Verhalten beim Motorradfahren\n\n\n\n\n\nFahrbahn lesenZweiradspezifische Verkehrszeichen und VerkehrseinrichtungenFahren unter erschwerten BedingungenFahren bei Dämmerung und DunkelheitAutobahn und KraftfahrstraßeVerhalten nach UnfällenÜberholen\n\n\n\n\n\n\n\n \n\n\n\n \n\nDu bist noch kein Kunde und benötigst einen Start-Termin? \n\n\n\n\n    \n        Zur Anmeldung
URL:https://fahrschule-armbruster.de/veranstaltungen/theorie-klasse-a-a2-a1-am-b196-lektion-4-tue-herrenbergerstr-39/2025-02-21
LOCATION:Tübingen Herrenberger Str. 39\, Herrenberger Straße 39\, Tübingen\, 72070
CATEGORIES:Theorie Klasse A / A2 / A1 / AM / B196
END:VEVENT
BEGIN:VEVENT
DTSTART;TZID=Europe/Berlin:20250221T180000
DTEND;TZID=Europe/Berlin:20250221T193000
DTSTAMP:20260422T131330
CREATED:20231019T064035Z
LAST-MODIFIED:20241114T192524Z
UID:10000642-1740160800-1740166200@fahrschule-armbruster.de
SUMMARY:Theorie Klasse A / A2 / A1 / AM / B196 Lektion 3 - TÜ Herrenbergerstr. 39
DESCRIPTION:Besondere Schwierigkeiten und Gefahren\n\n\n\n\n\nSehenGesehen werdenMitnahme von PersonenFahren in der GruppeMotorrad mit BeiwagenMotorrad mit Anhänger\n\n\n\n\n\n\n\n \n\n\n\n \n\nDu bist noch kein Kunde und benötigst einen Start-Termin? \n\n\n\n\n    \n        Zur Anmeldung
URL:https://fahrschule-armbruster.de/veranstaltungen/theorie-klasse-a-a2-a1-am-b196-lektion-3-tue-herrenbergerstr-39/2025-02-21
LOCATION:Tübingen Herrenberger Str. 39\, Herrenberger Straße 39\, Tübingen\, 72070
CATEGORIES:Theorie Klasse A / A2 / A1 / AM / B196
END:VEVENT
BEGIN:VEVENT
DTSTART;TZID=Europe/Berlin:20250220T193000
DTEND;TZID=Europe/Berlin:20250220T210000
DTSTAMP:20260422T131330
CREATED:20231019T063920Z
LAST-MODIFIED:20241114T191832Z
UID:10000630-1740079800-1740085200@fahrschule-armbruster.de
SUMMARY:Theorie Klasse A / A2 / A1 / AM / B196 Lektion 2 - TÜ Herrenbergerstr. 39
DESCRIPTION:Fahrtechnik und Fahrphysik\n\n\n\n\n\nAnfahren und Stabilisieren der FahrbewegungBremsenKurvenAusweichenKritische FahrzuständeBedeutung der Grundfahraufgaben\n\n\n\n\n\n\n\n \n\n\n\n \n\nDu bist noch kein Kunde und benötigst einen Start-Termin? \n\n\n\n\n    \n        Zur Anmeldung
URL:https://fahrschule-armbruster.de/veranstaltungen/theorie-klasse-a-a2-a1-am-b196-lektion-2-tue-herrenbergerstr-39/2025-02-20
LOCATION:Tübingen Herrenberger Str. 39\, Herrenberger Straße 39\, Tübingen\, 72070
CATEGORIES:Theorie Klasse A / A2 / A1 / AM / B196
END:VEVENT
BEGIN:VEVENT
DTSTART;TZID=Europe/Berlin:20250220T180000
DTEND;TZID=Europe/Berlin:20250220T193000
DTSTAMP:20260422T131330
CREATED:20231019T063016Z
LAST-MODIFIED:20250408T122833Z
UID:10000618-1740074400-1740079800@fahrschule-armbruster.de
SUMMARY:Theorie Klasse A / A2 / A1 / AM / B196 Lektion 1 - TÜ Herrenbergerstr. 39
DESCRIPTION:Fahrer\, Beifahrer\, Fahrzeug\n\n\n\n\n\nPersönliche VoraussetzungenSchutz des Fahrers / BeifahrersBetriebssicherheitVerkehrssicherheitUmweltschonende MotorradtechnikUmweltbewusstes VerhaltenDie Fahrerlaubnisklassen\n\n\n\n\n\n\n\n \n\n\n\n \n\nDu bist noch kein Kunde und benötigst einen Start-Termin? \n\n\n\n\n    \n        Zur Anmeldung
URL:https://fahrschule-armbruster.de/veranstaltungen/theorie-klasse-a-a2-a1-am-b196-tue-herrenbergerstr-39/2025-02-20
LOCATION:Tübingen Herrenberger Str. 39\, Herrenberger Straße 39\, Tübingen\, 72070
CATEGORIES:Theorie Klasse A / A2 / A1 / AM / B196
END:VEVENT
BEGIN:VEVENT
DTSTART;TZID=Europe/Berlin:20250219T180000
DTEND;TZID=Europe/Berlin:20250219T193000
DTSTAMP:20260422T131330
CREATED:20231017T071558Z
LAST-MODIFIED:20251130T143916Z
UID:10000584-1739988000-1739993400@fahrschule-armbruster.de
SUMMARY:Grundstoff Lektion 12 - TÜ Herrenbergerstr. 39
DESCRIPTION:Lebenslanges Lernen /Folgen von Verstößengegen Verkehrsvorschriften\n\n\n\n\n\nZahlen\, Daten\, FaktenÄltere FahrerFahrer mittleren AltersFahranfänger und junge FahrerJunge Fahrer – Maßnahmen des GesetzgebersAhndung von Fehlverhalten\n\n\n\n\n\n\n\n \n\n\n\n \n\nDu bist noch kein Kunde und benötigst einen Start-Termin? \n\n\n\n\n    \n        Zur Anmeldung
URL:https://fahrschule-armbruster.de/veranstaltungen/grundstoff-lektion-12-tue-herrenbergerstr-39/2025-02-19
LOCATION:Tübingen Herrenberger Str. 39\, Herrenberger Straße 39\, Tübingen\, 72070
CATEGORIES:Grundstoff - TÜ Herrenbergerstr. 39
END:VEVENT
BEGIN:VEVENT
DTSTART;TZID=Europe/Berlin:20250217T180000
DTEND;TZID=Europe/Berlin:20250217T193000
DTSTAMP:20260422T131330
CREATED:20231017T065938Z
LAST-MODIFIED:20251130T143558Z
UID:10000577-1739815200-1739820600@fahrschule-armbruster.de
SUMMARY:Grundstoff Lektion 11 - TÜ Herrenbergerstr. 39
DESCRIPTION:Verhalten inbesonderen Situationen\n\n\n\n\n\nBeleuchtungTunnelVerhalten gegenüber SonderfahrzeugenVerhalten nach einem VerkehrsunfallAbschleppen\, Schleppen und AnschleppenWarnzeichen\n\n\n\n\n\n\n\n \n\n\n\n \n\nDu bist noch kein Kunde und benötigst einen Start-Termin? \n\n\n\n\n    \n        Zur Anmeldung
URL:https://fahrschule-armbruster.de/veranstaltungen/grundstoff-lektion-11-tue-herrenbergerstr-39/2025-02-17
LOCATION:Tübingen Herrenberger Str. 39\, Herrenberger Straße 39\, Tübingen\, 72070
CATEGORIES:Grundstoff - TÜ Herrenbergerstr. 39
END:VEVENT
BEGIN:VEVENT
DTSTART;TZID=Europe/Berlin:20250212T180000
DTEND;TZID=Europe/Berlin:20250212T193000
DTSTAMP:20260422T131330
CREATED:20231017T065436Z
LAST-MODIFIED:20251130T143245Z
UID:10000570-1739383200-1739388600@fahrschule-armbruster.de
SUMMARY:Grundstoff Lektion 10 - TÜ Herrenbergerstr. 39
DESCRIPTION:Ruhender Verkehr\n\n\n\n\n\nHalten und ParkenHalteverboteParkverboteEinrichtungen zur Überwachung der ParkzeitEin- und Aussteigen\n\n\n\n\n\n\n\n \n\n\n\n \n\nDu bist noch kein Kunde und benötigst einen Start-Termin? \n\n\n\n\n    \n        Zur Anmeldung
URL:https://fahrschule-armbruster.de/veranstaltungen/grundstoff-lektion-10-tue-herrenbergerstr-39/2025-02-12
LOCATION:Tübingen Herrenberger Str. 39\, Herrenberger Straße 39\, Tübingen\, 72070
CATEGORIES:Grundstoff - TÜ Herrenbergerstr. 39
END:VEVENT
BEGIN:VEVENT
DTSTART;TZID=Europe/Berlin:20250210T180000
DTEND;TZID=Europe/Berlin:20250210T193000
DTSTAMP:20260422T131330
CREATED:20231017T064946Z
LAST-MODIFIED:20251130T142606Z
UID:10000563-1739210400-1739215800@fahrschule-armbruster.de
SUMMARY:Grundstoff Lektion 9 - TÜ Herrenbergerstr. 39
DESCRIPTION:Verkehrsverhaltenbei Fahrmanövern\, Verkehrsbeobachtung\n\n\n\n\n\nEinfahren\, AnfahrenNebeneinanderfahrenVorbeifahrenÜberholenAbbiegenRückwärtsfahrenWendenAusweichen\n\n\n\n\n\n\n\n \n\n\n\n \n\nDu bist noch kein Kunde und benötigst einen Start-Termin? \n\n\n\n\n    \n        Zur Anmeldung
URL:https://fahrschule-armbruster.de/veranstaltungen/grundstoff-lektion-9-tue-herrenbergerstr-39/2025-02-10
LOCATION:Tübingen Herrenberger Str. 39\, Herrenberger Straße 39\, Tübingen\, 72070
CATEGORIES:Grundstoff - TÜ Herrenbergerstr. 39
END:VEVENT
BEGIN:VEVENT
DTSTART;TZID=Europe/Berlin:20250205T180000
DTEND;TZID=Europe/Berlin:20250205T193000
DTSTAMP:20260422T131330
CREATED:20231017T064404Z
LAST-MODIFIED:20251130T142220Z
UID:10000556-1738778400-1738783800@fahrschule-armbruster.de
SUMMARY:Grundstoff Lektion 8 - TÜ Herrenbergerstr. 39
DESCRIPTION:Andere Teilnehmer im Straßen-verkehr: Besonderheiten und Verhalten\n\n\n\n\n\nVerkehrsteilnehmer – ÜbersichtÖffentliche VerkehrsmittelPkwMotorräderGroße und schwere FahrzeugeRadfahrerFußgängerKinderÄltere und behinderte MenschenMaßnahmen zur Verkehrsberuhigung\n\n\n\n\n\n\n\n \n\n\n\n \n\nDu bist noch kein Kunde und benötigst einen Start-Termin? \n\n\n\n\n    \n        Zur Anmeldung
URL:https://fahrschule-armbruster.de/veranstaltungen/grundstoff-lektion-8-tue-herrenbergerstr-39/2025-02-05
LOCATION:Tübingen Herrenberger Str. 39\, Herrenberger Straße 39\, Tübingen\, 72070
CATEGORIES:Grundstoff - TÜ Herrenbergerstr. 39
END:VEVENT
BEGIN:VEVENT
DTSTART;TZID=Europe/Berlin:20250203T180000
DTEND;TZID=Europe/Berlin:20250203T193000
DTSTAMP:20260422T131330
CREATED:20231017T063747Z
LAST-MODIFIED:20251130T141842Z
UID:10000549-1738605600-1738611000@fahrschule-armbruster.de
SUMMARY:Grundstoff Lektion 7 - TÜ Herrenbergerstr. 39
DESCRIPTION:Geschwindigkeit\, Abstandund umweltschonende Fahrweise\n\n\n\n\n\nGeschwindigkeit – BedeutungWahl der GeschwindigkeitGeschwindigkeitsvorschriftenAnhaltewegSicherheitsabständeUmweltbewusstes Befahren von Kreuzungen und Einmündungen\n\n\n\n\n\n\n\n \n\n\n\n \n\nDu bist noch kein Kunde und benötigst einen Start-Termin? \n\n\n\n\n    \n        Zur Anmeldung
URL:https://fahrschule-armbruster.de/veranstaltungen/grundstoff-lektion-7-tue-herrenbergerstr-39/2025-02-03
LOCATION:Tübingen Herrenberger Str. 39\, Herrenberger Straße 39\, Tübingen\, 72070
CATEGORIES:Grundstoff - TÜ Herrenbergerstr. 39
END:VEVENT
BEGIN:VEVENT
DTSTART;TZID=Europe/Berlin:20250129T180000
DTEND;TZID=Europe/Berlin:20250129T193000
DTSTAMP:20260422T131330
CREATED:20231017T063107Z
LAST-MODIFIED:20251130T141528Z
UID:10000542-1738173600-1738179000@fahrschule-armbruster.de
SUMMARY:Grundstoff Lektion 6 - TÜ Herrenbergerstr. 39
DESCRIPTION:Verkehrsregelungen/Bahnübergänge\n\n\n\n\n\nVerkehrsregelung durch LichtzeichenGrünpfeilschildDauerlichtzeichenVerkehrsregelung durch PolizeibeamteZusammenhänge Vorfahrt / VerkehrsregelungenBesondere VerkehrslagenBahnübergänge\n\n\n\n\n\n\n\n \n\n\n\n \n\nDu bist noch kein Kunde und benötigst einen Start-Termin? \n\n\n\n\n    \n        Zur Anmeldung
URL:https://fahrschule-armbruster.de/veranstaltungen/grundstoff-lektion-6-tue-herrenbergerstr-39/2025-01-29
LOCATION:Tübingen Herrenberger Str. 39\, Herrenberger Straße 39\, Tübingen\, 72070
CATEGORIES:Grundstoff - TÜ Herrenbergerstr. 39
END:VEVENT
BEGIN:VEVENT
DTSTART;TZID=Europe/Berlin:20250127T180000
DTEND;TZID=Europe/Berlin:20250127T193000
DTSTAMP:20260422T131330
CREATED:20231017T062439Z
LAST-MODIFIED:20251130T140904Z
UID:10000534-1738000800-1738006200@fahrschule-armbruster.de
SUMMARY:Grundstoff Lektion 5 - TÜ Herrenbergerstr. 39
DESCRIPTION:Vorfahrt\n\n\n\n\n\nDefinitionLinksabbieger / Vorrang des GegenverkehrsRechts vor LinksVorfahrtregelnde VerkehrszeichenAbknickende VorfahrtsstraßeKreisverkehr\n\n\n\n\n\n\n\n \n\n\n\n \n\nDu bist noch kein Kunde und benötigst einen Start-Termin? \n\n\n\n\n    \n        Zur Anmeldung
URL:https://fahrschule-armbruster.de/veranstaltungen/grundstoff-lektion-5-tue-herrenbergerstr-39/2025-01-27
LOCATION:Tübingen Herrenberger Str. 39\, Herrenberger Straße 39\, Tübingen\, 72070
CATEGORIES:Grundstoff - TÜ Herrenbergerstr. 39
END:VEVENT
BEGIN:VEVENT
DTSTART;TZID=Europe/Berlin:20250124T193000
DTEND;TZID=Europe/Berlin:20250124T210000
DTSTAMP:20260422T131330
CREATED:20231019T064140Z
LAST-MODIFIED:20241114T192533Z
UID:10000653-1737747000-1737752400@fahrschule-armbruster.de
SUMMARY:Theorie Klasse A / A2 / A1 / AM / B196 Lektion 4 - TÜ Herrenbergerstr. 39
DESCRIPTION:Besonderes Verhalten beim Motorradfahren\n\n\n\n\n\nFahrbahn lesenZweiradspezifische Verkehrszeichen und VerkehrseinrichtungenFahren unter erschwerten BedingungenFahren bei Dämmerung und DunkelheitAutobahn und KraftfahrstraßeVerhalten nach UnfällenÜberholen\n\n\n\n\n\n\n\n \n\n\n\n \n\nDu bist noch kein Kunde und benötigst einen Start-Termin? \n\n\n\n\n    \n        Zur Anmeldung
URL:https://fahrschule-armbruster.de/veranstaltungen/theorie-klasse-a-a2-a1-am-b196-lektion-4-tue-herrenbergerstr-39/2025-01-24
LOCATION:Tübingen Herrenberger Str. 39\, Herrenberger Straße 39\, Tübingen\, 72070
CATEGORIES:Theorie Klasse A / A2 / A1 / AM / B196
END:VEVENT
BEGIN:VEVENT
DTSTART;TZID=Europe/Berlin:20250124T180000
DTEND;TZID=Europe/Berlin:20250124T193000
DTSTAMP:20260422T131330
CREATED:20231019T064035Z
LAST-MODIFIED:20241114T192524Z
UID:10000641-1737741600-1737747000@fahrschule-armbruster.de
SUMMARY:Theorie Klasse A / A2 / A1 / AM / B196 Lektion 3 - TÜ Herrenbergerstr. 39
DESCRIPTION:Besondere Schwierigkeiten und Gefahren\n\n\n\n\n\nSehenGesehen werdenMitnahme von PersonenFahren in der GruppeMotorrad mit BeiwagenMotorrad mit Anhänger\n\n\n\n\n\n\n\n \n\n\n\n \n\nDu bist noch kein Kunde und benötigst einen Start-Termin? \n\n\n\n\n    \n        Zur Anmeldung
URL:https://fahrschule-armbruster.de/veranstaltungen/theorie-klasse-a-a2-a1-am-b196-lektion-3-tue-herrenbergerstr-39/2025-01-24
LOCATION:Tübingen Herrenberger Str. 39\, Herrenberger Straße 39\, Tübingen\, 72070
CATEGORIES:Theorie Klasse A / A2 / A1 / AM / B196
END:VEVENT
BEGIN:VEVENT
DTSTART;TZID=Europe/Berlin:20250123T193000
DTEND;TZID=Europe/Berlin:20250123T210000
DTSTAMP:20260422T131330
CREATED:20231019T063920Z
LAST-MODIFIED:20241114T191832Z
UID:10000629-1737660600-1737666000@fahrschule-armbruster.de
SUMMARY:Theorie Klasse A / A2 / A1 / AM / B196 Lektion 2 - TÜ Herrenbergerstr. 39
DESCRIPTION:Fahrtechnik und Fahrphysik\n\n\n\n\n\nAnfahren und Stabilisieren der FahrbewegungBremsenKurvenAusweichenKritische FahrzuständeBedeutung der Grundfahraufgaben\n\n\n\n\n\n\n\n \n\n\n\n \n\nDu bist noch kein Kunde und benötigst einen Start-Termin? \n\n\n\n\n    \n        Zur Anmeldung
URL:https://fahrschule-armbruster.de/veranstaltungen/theorie-klasse-a-a2-a1-am-b196-lektion-2-tue-herrenbergerstr-39/2025-01-23
LOCATION:Tübingen Herrenberger Str. 39\, Herrenberger Straße 39\, Tübingen\, 72070
CATEGORIES:Theorie Klasse A / A2 / A1 / AM / B196
END:VEVENT
BEGIN:VEVENT
DTSTART;TZID=Europe/Berlin:20250123T180000
DTEND;TZID=Europe/Berlin:20250123T193000
DTSTAMP:20260422T131330
CREATED:20231019T063016Z
LAST-MODIFIED:20250408T122833Z
UID:10000617-1737655200-1737660600@fahrschule-armbruster.de
SUMMARY:Theorie Klasse A / A2 / A1 / AM / B196 Lektion 1 - TÜ Herrenbergerstr. 39
DESCRIPTION:Fahrer\, Beifahrer\, Fahrzeug\n\n\n\n\n\nPersönliche VoraussetzungenSchutz des Fahrers / BeifahrersBetriebssicherheitVerkehrssicherheitUmweltschonende MotorradtechnikUmweltbewusstes VerhaltenDie Fahrerlaubnisklassen\n\n\n\n\n\n\n\n \n\n\n\n \n\nDu bist noch kein Kunde und benötigst einen Start-Termin? \n\n\n\n\n    \n        Zur Anmeldung
URL:https://fahrschule-armbruster.de/veranstaltungen/theorie-klasse-a-a2-a1-am-b196-tue-herrenbergerstr-39/2025-01-23
LOCATION:Tübingen Herrenberger Str. 39\, Herrenberger Straße 39\, Tübingen\, 72070
CATEGORIES:Theorie Klasse A / A2 / A1 / AM / B196
END:VEVENT
BEGIN:VEVENT
DTSTART;TZID=Europe/Berlin:20250122T180000
DTEND;TZID=Europe/Berlin:20250122T193000
DTSTAMP:20260422T131330
CREATED:20231017T061549Z
LAST-MODIFIED:20251130T135725Z
UID:10000526-1737568800-1737574200@fahrschule-armbruster.de
SUMMARY:Grundstoff Lektion 4 - TÜ Herrenbergerstr. 39
DESCRIPTION:Straßenverkehrssystemund seine Nutzung\n\n\n\n\n\nVerkehrswege und ihre BedeutungFahrbahnmarkierungenStraßenbenutzung\n\n\n\n\n\n\n\n \n\n\n\n \n\nDu bist noch kein Kunde und benötigst einen Start-Termin? \n\n\n\n\n    \n        Zur Anmeldung
URL:https://fahrschule-armbruster.de/veranstaltungen/grundstoff-lektion-4-tue-herrenbergerstr-39/2025-01-22
LOCATION:Tübingen Herrenberger Str. 39\, Herrenberger Straße 39\, Tübingen\, 72070
CATEGORIES:Grundstoff - TÜ Herrenbergerstr. 39
END:VEVENT
BEGIN:VEVENT
DTSTART;TZID=Europe/Berlin:20250120T180000
DTEND;TZID=Europe/Berlin:20250120T193000
DTSTAMP:20260422T131330
CREATED:20231013T134607Z
LAST-MODIFIED:20251130T133029Z
UID:10000518-1737396000-1737401400@fahrschule-armbruster.de
SUMMARY:Grundstoff Lektion 3 - TÜ Herrenbergerstr. 39
DESCRIPTION:Verkehrszeichen undVerkehrseinrichtungen\n\n\n\n\n\n\n\nGrundregel § 1 (StVO)VerkehrszeichenGefahrzeichenVorschriftzeichenRichtzeichenVerkehrseinrichtungenSinnbilder\n\n\n\n\n\n\n\n\n\n \n\n\n\n \n\nDu bist noch kein Kunde und benötigst einen Start-Termin? \n\n\n\n\n    \n        Zur Anmeldung
URL:https://fahrschule-armbruster.de/veranstaltungen/grundstoff-lektion-3-tue-herrenbergerstr-39/2025-01-20
LOCATION:Tübingen Herrenberger Str. 39\, Herrenberger Straße 39\, Tübingen\, 72070
CATEGORIES:Grundstoff - TÜ Herrenbergerstr. 39
END:VEVENT
BEGIN:VEVENT
DTSTART;TZID=Europe/Berlin:20250115T180000
DTEND;TZID=Europe/Berlin:20250115T193000
DTSTAMP:20260422T131330
CREATED:20231013T121742Z
LAST-MODIFIED:20251130T132113Z
UID:10000510-1736964000-1736969400@fahrschule-armbruster.de
SUMMARY:Grundstoff Lektion 2 - TÜ Herrenbergerstr. 39
DESCRIPTION:Rechtliche Rahmenbedingungen\n\n\n\n\n\n\nFühren von Kraftfahrzeugen\, FührerscheinZulassung von Kraftfahrzeugen\, FahrzeugpapiereFahrzeuguntersuchungenVersicherungen\, Verlust des Versicherungsschutzes\n\n\n\n\n\n\n\n\n \n\n\n\n \n\nDu bist noch kein Kunde und benötigst einen Start-Termin? \n\n\n\n\n    \n        Zur Anmeldung
URL:https://fahrschule-armbruster.de/veranstaltungen/grundstoff-lektion-2-tue-herrenbergerstr-39/2025-01-15
LOCATION:Tübingen Herrenberger Str. 39\, Herrenberger Straße 39\, Tübingen\, 72070
CATEGORIES:Grundstoff - TÜ Herrenbergerstr. 39
END:VEVENT
BEGIN:VEVENT
DTSTART;TZID=Europe/Berlin:20250113T180000
DTEND;TZID=Europe/Berlin:20250113T193000
DTSTAMP:20260422T131330
CREATED:20231013T115009Z
LAST-MODIFIED:20251130T131332Z
UID:10000502-1736791200-1736796600@fahrschule-armbruster.de
SUMMARY:Grundstoff Lektion 1 - TÜ Herrenbergerstr. 39
DESCRIPTION:Persönliche Voraussetzungen /Risikofaktor Mensch\n\n\n\nKörperliche FähigkeitenEinschränkungen der körperlichen FähigkeitenAlkoholIllegale Drogen und MedikamenteEmotionenSelbstbild; Fahrideale und Fahrerrollen\n\n\n\n\n\n\n\n\n\n\n\n\n\n \n\n\n\n \n\nDu bist noch kein Kunde und benötigst einen Start-Termin? \n\n\n\n\n    \n        Zur Anmeldung
URL:https://fahrschule-armbruster.de/veranstaltungen/grundstoff-lektion-1-tue-herrenbergerstr-39/2025-01-13
LOCATION:Tübingen Herrenberger Str. 39\, Herrenberger Straße 39\, Tübingen\, 72070
CATEGORIES:Grundstoff - TÜ Herrenbergerstr. 39
END:VEVENT
BEGIN:VEVENT
DTSTART;TZID=Europe/Berlin:20241220T193000
DTEND;TZID=Europe/Berlin:20241220T210000
DTSTAMP:20260422T131330
CREATED:20240305T075204Z
LAST-MODIFIED:20241105T074407Z
UID:10000499-1734723000-1734728400@fahrschule-armbruster.de
SUMMARY:Motorrad Lektion 4 - TÜ Herrenbergerstr. 39
DESCRIPTION:Besondere Schwierigkeiten und Gefahren\n\n\n\n\n\n• Fahrbahn „lesen“• Fahren unter erschwerten Bedingungen• Fahren bei Dämmerung und Dunkelheit• Fahren in der Stadt• Fahren auf Landstraßen• Fahren auf Autobahn• Gruppenfahrten• Sicherheit durch Weiterlernen \n\n\n\n\n\n\n\n \n\n\n\n \n\nDu bist noch kein Kunde und benötigst einen Start-Termin? \n\n\n\n\n    \n        Zur Anmeldung
URL:https://fahrschule-armbruster.de/veranstaltungen/motorrad-lektion-4-tue-herrenbergerstr-39/2024-12-20
LOCATION:Tübingen Herrenberger Str. 39\, Herrenberger Straße 39\, Tübingen\, 72070
CATEGORIES:Motorrad - TÜ Herrenbergerstr. 39
END:VEVENT
BEGIN:VEVENT
DTSTART;TZID=Europe/Berlin:20241219T180000
DTEND;TZID=Europe/Berlin:20241219T193000
DTSTAMP:20260422T131330
CREATED:20240305T074943Z
LAST-MODIFIED:20241105T074313Z
UID:10000498-1734631200-1734636600@fahrschule-armbruster.de
SUMMARY:Motorrad Lektion 3 - TÜ Herrenbergerstr. 39
DESCRIPTION:Besonderes Verhalten beim Motorradfahren\n\n\n\n\n\n• Verhalten bei zweiradspezifischen Verkehrszeichen• Sehen und gesehen• Mitnahme von Personen und Gepäck• Abstellen und Sichern• Verhalten nach Unfällen• Einsteiger-Motorrad ab 16• Motorräder mit Beiwagen• Motorrad mit Anhänger• Umweltschonung und umweltbewusstes Verhalten \n\n\n\n\n\n\n\n \n\n\n\n \n\nDu bist noch kein Kunde und benötigst einen Start-Termin? \n\n\n\n\n    \n        Zur Anmeldung
URL:https://fahrschule-armbruster.de/veranstaltungen/motorrad-lektion-3-tue-herrenbergerstr-39/2024-12-19
LOCATION:Tübingen Herrenberger Str. 39\, Herrenberger Straße 39\, Tübingen\, 72070
CATEGORIES:Motorrad - TÜ Herrenbergerstr. 39
END:VEVENT
END:VCALENDAR