BEGIN:VCALENDAR
VERSION:2.0
PRODID:-//Fahrschule Armbruster - ECPv6.15.17//NONSGML v1.0//EN
CALSCALE:GREGORIAN
METHOD:PUBLISH
X-WR-CALNAME:Fahrschule Armbruster
X-ORIGINAL-URL:https://fahrschule-armbruster.de
X-WR-CALDESC:Veranstaltungen für Fahrschule Armbruster
REFRESH-INTERVAL;VALUE=DURATION:PT1H
X-Robots-Tag:noindex
X-PUBLISHED-TTL:PT1H
BEGIN:VTIMEZONE
TZID:Europe/Berlin
BEGIN:DAYLIGHT
TZOFFSETFROM:+0100
TZOFFSETTO:+0200
TZNAME:CEST
DTSTART:20250330T010000
END:DAYLIGHT
BEGIN:STANDARD
TZOFFSETFROM:+0200
TZOFFSETTO:+0100
TZNAME:CET
DTSTART:20251026T010000
END:STANDARD
BEGIN:DAYLIGHT
TZOFFSETFROM:+0100
TZOFFSETTO:+0200
TZNAME:CEST
DTSTART:20260329T010000
END:DAYLIGHT
BEGIN:STANDARD
TZOFFSETFROM:+0200
TZOFFSETTO:+0100
TZNAME:CET
DTSTART:20261025T010000
END:STANDARD
BEGIN:DAYLIGHT
TZOFFSETFROM:+0100
TZOFFSETTO:+0200
TZNAME:CEST
DTSTART:20270328T010000
END:DAYLIGHT
BEGIN:STANDARD
TZOFFSETFROM:+0200
TZOFFSETTO:+0100
TZNAME:CET
DTSTART:20271031T010000
END:STANDARD
END:VTIMEZONE
BEGIN:VEVENT
DTSTART;TZID=Europe/Berlin:20260422T180000
DTEND;TZID=Europe/Berlin:20260422T193000
DTSTAMP:20260422T105821
CREATED:20231013T115009Z
LAST-MODIFIED:20251130T131332Z
UID:10000809-1776880800-1776886200@fahrschule-armbruster.de
SUMMARY:Grundstoff Lektion 1 - TÜ Herrenbergerstr. 39
DESCRIPTION:Persönliche Voraussetzungen /Risikofaktor Mensch\n\n\n\nKörperliche FähigkeitenEinschränkungen der körperlichen FähigkeitenAlkoholIllegale Drogen und MedikamenteEmotionenSelbstbild; Fahrideale und Fahrerrollen\n\n\n\n\n\n\n\n\n\n\n\n\n\n \n\n\n\n \n\nDu bist noch kein Kunde und benötigst einen Start-Termin? \n\n\n\n\n    \n        Zur Anmeldung
URL:https://fahrschule-armbruster.de/veranstaltungen/grundstoff-lektion-1-tue-herrenbergerstr-39/2026-04-22
LOCATION:Tübingen Herrenberger Str. 39\, Herrenberger Straße 39\, Tübingen\, 72070
CATEGORIES:Grundstoff - TÜ Herrenbergerstr. 39
END:VEVENT
END:VCALENDAR